BEGIN:VCALENDAR
VERSION:2.0
PRODID:-//ICOMOS Lebanon - ECPv6.15.20//NONSGML v1.0//EN
CALSCALE:GREGORIAN
METHOD:PUBLISH
X-WR-CALNAME:ICOMOS Lebanon
X-ORIGINAL-URL:https://lebanon.icomos.org
X-WR-CALDESC:Events for ICOMOS Lebanon
REFRESH-INTERVAL;VALUE=DURATION:PT1H
X-Robots-Tag:noindex
X-PUBLISHED-TTL:PT1H
BEGIN:VTIMEZONE
TZID:Asia/Beirut
BEGIN:DAYLIGHT
TZOFFSETFROM:+0200
TZOFFSETTO:+0300
TZNAME:EEST
DTSTART:20250329T220000
END:DAYLIGHT
BEGIN:STANDARD
TZOFFSETFROM:+0300
TZOFFSETTO:+0200
TZNAME:EET
DTSTART:20251025T210000
END:STANDARD
BEGIN:DAYLIGHT
TZOFFSETFROM:+0200
TZOFFSETTO:+0300
TZNAME:EEST
DTSTART:20260328T220000
END:DAYLIGHT
BEGIN:STANDARD
TZOFFSETFROM:+0300
TZOFFSETTO:+0200
TZNAME:EET
DTSTART:20261024T210000
END:STANDARD
BEGIN:DAYLIGHT
TZOFFSETFROM:+0200
TZOFFSETTO:+0300
TZNAME:EEST
DTSTART:20270327T220000
END:DAYLIGHT
BEGIN:STANDARD
TZOFFSETFROM:+0300
TZOFFSETTO:+0200
TZNAME:EET
DTSTART:20271030T210000
END:STANDARD
END:VTIMEZONE
BEGIN:VEVENT
DTSTART;VALUE=DATE:20260322
DTEND;VALUE=DATE:20260323
DTSTAMP:20260425T141900
CREATED:20260303T012141Z
LAST-MODIFIED:20260312T111158Z
UID:3337-1774137600-1774223999@lebanon.icomos.org
SUMMARY:World Water Day
DESCRIPTION:© Libshop.fr — Cascade d’Afqa\n\nWater and Heritage: Connecting Past\, Present and Future\nWater is a source of life\, a driver of cultural meaning\, and a shaper of places and practices. From historic waterworks and sacred springs to cultural landscapes and community traditions\, water has sustained cities\, inspired rituals\, and shaped human settlement long before modern infrastructure. \nOn World Water Day\, ICOMOS Lebanon highlights the cultural values of water — as the foundation of historic infrastructures\, as inspiration for living traditions\, and as a defining force in the landscapes that form part of our shared heritage. \nSafeguarding heritage means safeguarding the water that sustains it. The legacies of the past depend on how we manage and protect water today — for communities\, for cultural identity\, and for future generations.
URL:https://lebanon.icomos.org/event/world-water-day/
CATEGORIES:International Days
END:VEVENT
BEGIN:VEVENT
DTSTART;VALUE=DATE:20260321
DTEND;VALUE=DATE:20260322
DTSTAMP:20260425T141900
CREATED:20260303T010429Z
LAST-MODIFIED:20260312T111110Z
UID:3333-1774051200-1774137599@lebanon.icomos.org
SUMMARY:World Poetry Day
DESCRIPTION:© Hidden Mediterranean\nhttps://lebanon.icomos.org/wp-content/uploads/2026/03/Lebanese-Zajal.mp3\n\nMen and Women in Zajal\nOn World Poetry Day\, ICOMOS Lebanon highlights the richness of Lebanon’s oral poetic tradition of Zajal\, inscribed in 2014 on UNESCO’s Representative List of the Intangible Cultural Heritage of Humanity. \nZajal embodies the power of language as living heritage – transmitted through performance\, dialogue\, and communal gathering. Often held in historic settings\, these poetic encounters connect living traditions to cultural places. \nSafeguarding heritage means protecting not only monuments and sites\, but also the voices and practices that give them meaning. ICOMOS Lebanon recognizes the contribution of both men and women in sustaining Lebanon’s poetic traditions across generations.
URL:https://lebanon.icomos.org/event/world-poetry-day/
END:VEVENT
BEGIN:VEVENT
DTSTART;VALUE=DATE:20260308
DTEND;VALUE=DATE:20260309
DTSTAMP:20260425T141900
CREATED:20260303T003905Z
LAST-MODIFIED:20260312T111755Z
UID:3330-1772928000-1773014399@lebanon.icomos.org
SUMMARY:International Women's Day
DESCRIPTION:Archival Photograph\, Beirut\, 1970 \n\n\nWomen at the Heart of Cultural Heritage: Protecting Traditions\, Shaping the Future\nOn International Women’s Day\, ICOMOS Lebanon recognizes the vital contribution of women to the safeguarding\, interpretation\, and transmission of cultural heritage. \nAcross tangible and intangible domains — from traditional crafts\, community memory\, and ritual knowledge to professional practice in conservation and heritage management — women are central actors whose expertise sustains cultural continuity. \nThis day reminds us that equitable participation\, recognition\, and leadership are essential for heritage that is representative\, resilient\, and relevant. ICOMOS Lebanon reaffirms its commitment to gender equity in heritage governance and celebrates the women who shape the past and future of our cultural heritage.\n\n\n\n 
URL:https://lebanon.icomos.org/event/international-womens-day/
CATEGORIES:International Days
END:VEVENT
END:VCALENDAR