BEGIN:VCALENDAR
VERSION:2.0
PRODID:-//ICOMOS Lebanon - ECPv6.15.20//NONSGML v1.0//EN
CALSCALE:GREGORIAN
METHOD:PUBLISH
X-WR-CALNAME:ICOMOS Lebanon
X-ORIGINAL-URL:https://lebanon.icomos.org
X-WR-CALDESC:Events for ICOMOS Lebanon
REFRESH-INTERVAL;VALUE=DURATION:PT1H
X-Robots-Tag:noindex
X-PUBLISHED-TTL:PT1H
BEGIN:VTIMEZONE
TZID:Asia/Beirut
BEGIN:DAYLIGHT
TZOFFSETFROM:+0200
TZOFFSETTO:+0300
TZNAME:EEST
DTSTART:20250329T220000
END:DAYLIGHT
BEGIN:STANDARD
TZOFFSETFROM:+0300
TZOFFSETTO:+0200
TZNAME:EET
DTSTART:20251025T210000
END:STANDARD
BEGIN:DAYLIGHT
TZOFFSETFROM:+0200
TZOFFSETTO:+0300
TZNAME:EEST
DTSTART:20260328T220000
END:DAYLIGHT
BEGIN:STANDARD
TZOFFSETFROM:+0300
TZOFFSETTO:+0200
TZNAME:EET
DTSTART:20261024T210000
END:STANDARD
BEGIN:DAYLIGHT
TZOFFSETFROM:+0200
TZOFFSETTO:+0300
TZNAME:EEST
DTSTART:20270327T220000
END:DAYLIGHT
BEGIN:STANDARD
TZOFFSETFROM:+0300
TZOFFSETTO:+0200
TZNAME:EET
DTSTART:20271030T210000
END:STANDARD
END:VTIMEZONE
BEGIN:VEVENT
DTSTART;VALUE=DATE:20260308
DTEND;VALUE=DATE:20260309
DTSTAMP:20260425T133722
CREATED:20260303T003905Z
LAST-MODIFIED:20260312T111755Z
UID:3330-1772928000-1773014399@lebanon.icomos.org
SUMMARY:International Women's Day
DESCRIPTION:Archival Photograph\, Beirut\, 1970 \n\n\nWomen at the Heart of Cultural Heritage: Protecting Traditions\, Shaping the Future\nOn International Women’s Day\, ICOMOS Lebanon recognizes the vital contribution of women to the safeguarding\, interpretation\, and transmission of cultural heritage. \nAcross tangible and intangible domains — from traditional crafts\, community memory\, and ritual knowledge to professional practice in conservation and heritage management — women are central actors whose expertise sustains cultural continuity. \nThis day reminds us that equitable participation\, recognition\, and leadership are essential for heritage that is representative\, resilient\, and relevant. ICOMOS Lebanon reaffirms its commitment to gender equity in heritage governance and celebrates the women who shape the past and future of our cultural heritage.\n\n\n\n 
URL:https://lebanon.icomos.org/event/international-womens-day/
CATEGORIES:International Days
END:VEVENT
END:VCALENDAR