BEGIN:VCALENDAR
VERSION:2.0
PRODID:-//ICOMOS Lebanon - ECPv6.15.20//NONSGML v1.0//EN
CALSCALE:GREGORIAN
METHOD:PUBLISH
X-WR-CALNAME:ICOMOS Lebanon
X-ORIGINAL-URL:https://lebanon.icomos.org
X-WR-CALDESC:Events for ICOMOS Lebanon
REFRESH-INTERVAL;VALUE=DURATION:PT1H
X-Robots-Tag:noindex
X-PUBLISHED-TTL:PT1H
BEGIN:VTIMEZONE
TZID:Asia/Beirut
BEGIN:DAYLIGHT
TZOFFSETFROM:+0200
TZOFFSETTO:+0300
TZNAME:EEST
DTSTART:20250329T220000
END:DAYLIGHT
BEGIN:STANDARD
TZOFFSETFROM:+0300
TZOFFSETTO:+0200
TZNAME:EET
DTSTART:20251025T210000
END:STANDARD
BEGIN:DAYLIGHT
TZOFFSETFROM:+0200
TZOFFSETTO:+0300
TZNAME:EEST
DTSTART:20260328T220000
END:DAYLIGHT
BEGIN:STANDARD
TZOFFSETFROM:+0300
TZOFFSETTO:+0200
TZNAME:EET
DTSTART:20261024T210000
END:STANDARD
BEGIN:DAYLIGHT
TZOFFSETFROM:+0200
TZOFFSETTO:+0300
TZNAME:EEST
DTSTART:20270327T220000
END:DAYLIGHT
BEGIN:STANDARD
TZOFFSETFROM:+0300
TZOFFSETTO:+0200
TZNAME:EET
DTSTART:20271030T210000
END:STANDARD
END:VTIMEZONE
BEGIN:VEVENT
DTSTART;VALUE=DATE:20260609
DTEND;VALUE=DATE:20260610
DTSTAMP:20260425T013452
CREATED:20260304T155958Z
LAST-MODIFIED:20260312T120637Z
UID:3389-1780963200-1781049599@lebanon.icomos.org
SUMMARY:International Archives Day
DESCRIPTION:© UNESCO\n\nArchives and Heritage Conservation: Preserving the Memory of Cultural Places\nInternational Archives Day is celebrated on 9 June and is coordinated by the International Council on Archives. The day highlights the importance of archives in preserving documentary heritage\, ensuring transparency\, and safeguarding historical knowledge. \nFor the International Council on Monuments and Sites (ICOMOS) and its national committees\, archives are fundamental to cultural heritage conservation and research. The protection of monuments and sites depends not only on physical conservation but also on the preservation of historical records that document their history\, construction\, and transformation. \nOn International Archives Day\, ICOMOS Lebanon highlights the vital role of archives in safeguarding cultural heritage. Architectural drawings\, photographs\, excavation records\, and restoration reports provide essential knowledge that supports the protection\, conservation\, and interpretation of monuments and sites. By preserving documentary heritage\, archives help ensure that the history and memory of cultural places are transmitted to future generations.
URL:https://lebanon.icomos.org/event/international-archives-day/
CATEGORIES:International Days
END:VEVENT
END:VCALENDAR