BEGIN:VCALENDAR
VERSION:2.0
PRODID:-//ICOMOS Lebanon - ECPv6.15.20//NONSGML v1.0//EN
CALSCALE:GREGORIAN
METHOD:PUBLISH
X-WR-CALNAME:ICOMOS Lebanon
X-ORIGINAL-URL:https://lebanon.icomos.org
X-WR-CALDESC:Events for ICOMOS Lebanon
REFRESH-INTERVAL;VALUE=DURATION:PT1H
X-Robots-Tag:noindex
X-PUBLISHED-TTL:PT1H
BEGIN:VTIMEZONE
TZID:Asia/Beirut
BEGIN:DAYLIGHT
TZOFFSETFROM:+0200
TZOFFSETTO:+0300
TZNAME:EEST
DTSTART:20250329T220000
END:DAYLIGHT
BEGIN:STANDARD
TZOFFSETFROM:+0300
TZOFFSETTO:+0200
TZNAME:EET
DTSTART:20251025T210000
END:STANDARD
BEGIN:DAYLIGHT
TZOFFSETFROM:+0200
TZOFFSETTO:+0300
TZNAME:EEST
DTSTART:20260328T220000
END:DAYLIGHT
BEGIN:STANDARD
TZOFFSETFROM:+0300
TZOFFSETTO:+0200
TZNAME:EET
DTSTART:20261024T210000
END:STANDARD
BEGIN:DAYLIGHT
TZOFFSETFROM:+0200
TZOFFSETTO:+0300
TZNAME:EEST
DTSTART:20270327T220000
END:DAYLIGHT
BEGIN:STANDARD
TZOFFSETFROM:+0300
TZOFFSETTO:+0200
TZNAME:EET
DTSTART:20271030T210000
END:STANDARD
END:VTIMEZONE
BEGIN:VEVENT
DTSTART;VALUE=DATE:20260518
DTEND;VALUE=DATE:20260519
DTSTAMP:20260424T214852
CREATED:20260303T002437Z
LAST-MODIFIED:20260312T114952Z
UID:3324-1779062400-1779148799@lebanon.icomos.org
SUMMARY:International Museum Day
DESCRIPTION:© Courtesy of Rehabilitation of the National Museum of Beirut 1996–1999\n\nInternational Museum Day 2026: Museums Uniting a Divided World\nEach year since 1977\, the International Council of Museums (ICOM) has organized International Museum Day\, which represents a unique moment for the international museum community. \nThe objective of International Museum Day (IMD) is to raise awareness about the fact that “museums are an important means of cultural exchange\, enrichment of cultures and development of mutual understanding\, cooperation and peace among peoples.” \nOn 18 May 2026\, museums worldwide will mark International Museum Day under the theme “Museums Uniting a Divided World”. The theme highlights the potential of museums to act as bridges across cultural\, social\, and geopolitical divides\, fostering dialogue\, understanding\, inclusion and peace within and between communities worldwide. \nOn International Museum Day\, ICOMOS Lebanon recognizes the vital role museums play in preserving\, interpreting\, and transmitting cultural heritage. \nMuseums safeguard collections that originate from monuments and archaeological sites\, linking movable and immovable heritage within a shared framework of conservation standards and research. \nThe protection of heritage depends on this collaboration — from the site to the museum\, and from scholarship to public engagement.
URL:https://lebanon.icomos.org/event/international-museum-day/
CATEGORIES:International Days
END:VEVENT
END:VCALENDAR